BEGIN:VCALENDAR
VERSION:2.0
PRODID:-//Gem Fairs - ECPv6.15.11//NONSGML v1.0//EN
CALSCALE:GREGORIAN
METHOD:PUBLISH
X-WR-CALNAME:Gem Fairs
X-ORIGINAL-URL:https://gemfairs.com
X-WR-CALDESC:Events for Gem Fairs
REFRESH-INTERVAL;VALUE=DURATION:PT1H
X-Robots-Tag:noindex
X-PUBLISHED-TTL:PT1H
BEGIN:VTIMEZONE
TZID:Australia/Brisbane
BEGIN:STANDARD
TZOFFSETFROM:+1000
TZOFFSETTO:+1000
TZNAME:AEST
DTSTART:20210101T000000
END:STANDARD
END:VTIMEZONE
BEGIN:VEVENT
DTSTART;VALUE=DATE:20220723
DTEND;VALUE=DATE:20220725
DTSTAMP:20260422T133139
CREATED:20220708T195225Z
LAST-MODIFIED:20220708T220308Z
UID:1745-1658534400-1658707199@gemfairs.com
SUMMARY:Gemfest (Cairns)
DESCRIPTION:Cairns Gemfest will take place on 23 – 24 July 2022 at Cairns Mineral and Lapidary Club\, 129 Mulgrave Road\, Cairns. \nDriving time is less than fifteen minutes from the city centre and Cairns Airport. \nPlease be certain to confirm all exhibition details with the show organisers before planning your trip. Exhibitions\, venues and dates may be subject to cancellation or alteration. Please check our Terms of Use. \n\nTickets:\nAdmission is free of charge. \n\nOperating Hours:\n23 July 2022: 9 a.m. – 4 p.m.\n24 July 2022: 9 a.m. – 3 p.m. \n\nDisplays and Demonstrations\n\nFacetting\nCabochon Polishing\nSilver Jewellery Manufacturing\nPrecious Gemstones\nSemi-Precious Gemstones\nCrystals\nBeads\nJewellery\nFindings\nLapidary Supplies\n\n\nSpecial Events\n\nSandpit Fossicking for Children\nMetal Detecting\nWin a Gold Nugget\nLearn How to Apply for a Fossicking Licence\nAll Day Barbeque\n\n\nLocal Attractions\n\n\n\nGreat Barrier Reef Cruises\nSnorkelling and Diving\nWhite Water Rafting\nKuranda Scenic Railway\nRainforest Tours\nSkyrail Rainforest Cableway\n\n\n\n\nPublic Transport\nThe venue can be accessed from the city centre by public transport. \nJourney Planner
URL:https://gemfairs.com/event/gemfest-cairns/
LOCATION:Cairns Mineral and Lapidary Club\, 129 Mulgrave Road\, Cairns\, QLD\, 4870\, Australia
CATEGORIES:Australia,Gem Fairs,July
ATTACH;FMTTYPE=image/jpeg:https://gemfairs.com/wp-content/uploads/2022/07/cairns-queensland.jpg
ORGANIZER;CN="Cairns Mineral and Lapidary Club":MAILTO:cairnsmlc@gmail.com
END:VEVENT
END:VCALENDAR